BEGIN:VCALENDAR
VERSION:2.0
PRODID:-//The Running Depot - ECPv6.15.20//NONSGML v1.0//EN
CALSCALE:GREGORIAN
METHOD:PUBLISH
X-WR-CALNAME:The Running Depot
X-ORIGINAL-URL:https://therunningdepot.com
X-WR-CALDESC:Events for The Running Depot
REFRESH-INTERVAL;VALUE=DURATION:PT1H
X-Robots-Tag:noindex
X-PUBLISHED-TTL:PT1H
BEGIN:VTIMEZONE
TZID:America/Chicago
BEGIN:DAYLIGHT
TZOFFSETFROM:-0600
TZOFFSETTO:-0500
TZNAME:CDT
DTSTART:20230312T080000
END:DAYLIGHT
BEGIN:STANDARD
TZOFFSETFROM:-0500
TZOFFSETTO:-0600
TZNAME:CST
DTSTART:20231105T070000
END:STANDARD
BEGIN:DAYLIGHT
TZOFFSETFROM:-0600
TZOFFSETTO:-0500
TZNAME:CDT
DTSTART:20240310T080000
END:DAYLIGHT
BEGIN:STANDARD
TZOFFSETFROM:-0500
TZOFFSETTO:-0600
TZNAME:CST
DTSTART:20241103T070000
END:STANDARD
BEGIN:DAYLIGHT
TZOFFSETFROM:-0600
TZOFFSETTO:-0500
TZNAME:CDT
DTSTART:20250309T080000
END:DAYLIGHT
BEGIN:STANDARD
TZOFFSETFROM:-0500
TZOFFSETTO:-0600
TZNAME:CST
DTSTART:20251102T070000
END:STANDARD
END:VTIMEZONE
BEGIN:VEVENT
DTSTART;VALUE=DATE:20240728
DTEND;VALUE=DATE:20240729
DTSTAMP:20260422T223335
CREATED:20240328T192157Z
LAST-MODIFIED:20240402T125841Z
UID:10000797-1722124800-1722211199@therunningdepot.com
SUMMARY:Crystal Lake Aquathon Race
DESCRIPTION:
URL:https://therunningdepot.com/event/crystal-lake-aquathon-race/
LOCATION:Three Oaks Recreation Area\, 5517 Northwest Highway\, Crystal Lake\, IL\, 60014\, United States
CATEGORIES:Race
ATTACH;FMTTYPE=image/png:https://therunningdepot.com/wp-content/uploads/2024/03/Aquathon-1920x1080-1.png
END:VEVENT
BEGIN:VEVENT
DTSTART;VALUE=DATE:20240728
DTEND;VALUE=DATE:20240729
DTSTAMP:20260422T223335
CREATED:20240516T163241Z
LAST-MODIFIED:20240516T163614Z
UID:10000814-1722124800-1722211199@therunningdepot.com
SUMMARY:Algonquin Founders Days 10K / 5K Race
DESCRIPTION:
URL:https://therunningdepot.com/event/algonquin-founders-days-10k-5k-race/
LOCATION:Algonquin Middle School\, 520 Longwood Dr\, Algonquin\, IL\, 60102
CATEGORIES:Race
ATTACH;FMTTYPE=image/png:https://therunningdepot.com/wp-content/uploads/2024/05/FoundersDay835-X-503.png
END:VEVENT
END:VCALENDAR