BEGIN:VCALENDAR
VERSION:2.0
PRODID:-//The Running Depot - ECPv6.15.20//NONSGML v1.0//EN
CALSCALE:GREGORIAN
METHOD:PUBLISH
X-WR-CALNAME:The Running Depot
X-ORIGINAL-URL:https://therunningdepot.com
X-WR-CALDESC:Events for The Running Depot
REFRESH-INTERVAL;VALUE=DURATION:PT1H
X-Robots-Tag:noindex
X-PUBLISHED-TTL:PT1H
BEGIN:VTIMEZONE
TZID:America/Chicago
BEGIN:DAYLIGHT
TZOFFSETFROM:-0600
TZOFFSETTO:-0500
TZNAME:CDT
DTSTART:20230312T080000
END:DAYLIGHT
BEGIN:STANDARD
TZOFFSETFROM:-0500
TZOFFSETTO:-0600
TZNAME:CST
DTSTART:20231105T070000
END:STANDARD
BEGIN:DAYLIGHT
TZOFFSETFROM:-0600
TZOFFSETTO:-0500
TZNAME:CDT
DTSTART:20240310T080000
END:DAYLIGHT
BEGIN:STANDARD
TZOFFSETFROM:-0500
TZOFFSETTO:-0600
TZNAME:CST
DTSTART:20241103T070000
END:STANDARD
BEGIN:DAYLIGHT
TZOFFSETFROM:-0600
TZOFFSETTO:-0500
TZNAME:CDT
DTSTART:20250309T080000
END:DAYLIGHT
BEGIN:STANDARD
TZOFFSETFROM:-0500
TZOFFSETTO:-0600
TZNAME:CST
DTSTART:20251102T070000
END:STANDARD
END:VTIMEZONE
BEGIN:VEVENT
DTSTART;VALUE=DATE:20240928
DTEND;VALUE=DATE:20240929
DTSTAMP:20260422T192912
CREATED:20240729T192613Z
LAST-MODIFIED:20240729T193600Z
UID:10000823-1727481600-1727567999@therunningdepot.com
SUMMARY:Moraine Hills Run for the Hills 5K/10K/Half Marathon Race
DESCRIPTION:
URL:https://therunningdepot.com/event/run-for-the-hills-5k-10k-half-marathon-race/
LOCATION:Moraine Hills State Park\, 1510 South River Road\, McHenry\, IL\, 60051\, United States
CATEGORIES:Race
ATTACH;FMTTYPE=image/png:https://therunningdepot.com/wp-content/uploads/2024/07/RunFortheHills835-X-503-1.png
END:VEVENT
END:VCALENDAR